BEGIN:VCALENDAR
VERSION:2.0
PRODID:-//Enlightened Energetics - ECPv6.15.20//NONSGML v1.0//EN
CALSCALE:GREGORIAN
METHOD:PUBLISH
X-ORIGINAL-URL:https://enlightenedenergetics.com
X-WR-CALDESC:Events for Enlightened Energetics
REFRESH-INTERVAL;VALUE=DURATION:PT1H
X-Robots-Tag:noindex
X-PUBLISHED-TTL:PT1H
BEGIN:VTIMEZONE
TZID:America/Los_Angeles
BEGIN:DAYLIGHT
TZOFFSETFROM:-0800
TZOFFSETTO:-0700
TZNAME:PDT
DTSTART:20190310T100000
END:DAYLIGHT
BEGIN:STANDARD
TZOFFSETFROM:-0700
TZOFFSETTO:-0800
TZNAME:PST
DTSTART:20191103T090000
END:STANDARD
BEGIN:DAYLIGHT
TZOFFSETFROM:-0800
TZOFFSETTO:-0700
TZNAME:PDT
DTSTART:20200308T100000
END:DAYLIGHT
BEGIN:STANDARD
TZOFFSETFROM:-0700
TZOFFSETTO:-0800
TZNAME:PST
DTSTART:20201101T090000
END:STANDARD
BEGIN:DAYLIGHT
TZOFFSETFROM:-0800
TZOFFSETTO:-0700
TZNAME:PDT
DTSTART:20210314T100000
END:DAYLIGHT
BEGIN:STANDARD
TZOFFSETFROM:-0700
TZOFFSETTO:-0800
TZNAME:PST
DTSTART:20211107T090000
END:STANDARD
END:VTIMEZONE
BEGIN:VEVENT
DTSTART;TZID=America/Los_Angeles:20201202T160000
DTEND;TZID=America/Los_Angeles:20201202T170000
DTSTAMP:20260419T010011
CREATED:20201102T014618Z
LAST-MODIFIED:20201106T031728Z
UID:10000017-1606924800-1606928400@enlightenedenergetics.com
SUMMARY:Online Bookstore Event: Chakra Meditation and Owning Your Gifts
DESCRIPTION:December 2nd 7 pm ET\, Sponsored by Soul Journey\, NJ\nWorking with our chakras is a powerful way to support healing in mind\, body\, and spirit\, as well as to access and empower our energy gifts. In this free webinar you will learn how to work with your chakras in meditation\, and specific links between the chakras and particular gifts such as the different forms of intuition\, healing\, and manifestation/magick. The session will include both information and guided meditations. Lisa Erickson is an energy worker\, workshop leader\, and author of Chakra Empowerment for Women & The Art and Science of Meditation\, both through Llewellyn Publishing and available to order through Soul Journey. She also specializes in women’s energetics and sexual trauma energy healing\, and can answer questions on these as well during the Q&A. \nEmail sandi@souljourney.com to register.
URL:https://enlightenedenergetics.com/event/chakra-meditation-and-owning-your-gifts-free-webinar/
CATEGORIES:Free Webinar/Book Event
END:VEVENT
BEGIN:VEVENT
DTSTART;TZID=America/Los_Angeles:20201203T180000
DTEND;TZID=America/Los_Angeles:20201203T190000
DTSTAMP:20260419T010011
CREATED:20201102T011629Z
LAST-MODIFIED:20201106T031516Z
UID:10000016-1607018400-1607022000@enlightenedenergetics.com
SUMMARY:Online Bookstore Event: Working with Your Chakras Through Meditation
DESCRIPTION:Thursday December 3rd\, 7pm MT/6pm PT\, Sponsored by Awakening Heart Gifts and Books\, Salt Lake City \nThe chakras are energy centers linking mind\, body and spirit\, and meditating on them supports our healing and growth on all three levels. This free webinar will introduce you to the chakras and a chakra meditation you can utilize in daily life\, as well as to ways to activate your chakras in real life situations as needed. Presenter Lisa Erickson is an energy worker specializing in women’s energetics and author of Chakra Empowerment for Women and The Art & Science of Meditation\, both through Llewellyn Worldwide and available to order by request through Awakening Heart. \nPlease pre-register for this event through the following Zoom link: \nhttps://zoom.us/meeting/register/tJYkcu2gqTgvE9OoP3OemPhWoB_cG2XYDeuv
URL:https://enlightenedenergetics.com/event/working-with-your-chakras-through-meditation-free-webinar/
CATEGORIES:Free Webinar/Book Event
END:VEVENT
BEGIN:VEVENT
DTSTART;TZID=America/Los_Angeles:20201208T180000
DTEND;TZID=America/Los_Angeles:20201208T190000
DTSTAMP:20260419T010011
CREATED:20201102T050205Z
LAST-MODIFIED:20201204T063109Z
UID:10000018-1607450400-1607454000@enlightenedenergetics.com
SUMMARY:Online Bookstore Event: Meditation - Building a Practice That Truly Benefits YOU
DESCRIPTION:Tuesday Dec 8th\, 7pm mt/ 6pm pt Rediscovered Books\, Boise ID \n2020 has been one for the history books. Never before have we needed stress and health management skills more\, and meditation can be an important piece of supporting our physical\, mental\, and spiritual well-being. But with so much information available on meditation\, how can we sort through it to truly develop a practice that supports us as an individual in the way we need? \nLisa Erickson\, Author of The Art and Science of Meditation: How to Deepen and Personalize Your Practicefrom Llewellyn Publishing\, provides this free webinar to help answer this question. Drawing from both science and spiritual traditions\, she’ll cover: \n\nWhich meditation forms have been linked to which benefits in scientific research? Which are best for you?\nWhat are proven ways of developing\, stabilizing\, or improving a regular meditation routine?\nHow can we work through common challenges like procrastination\, drowsiness\, restlessness\, physical pain and more?\nWhat do subtler challenges to meditation\, like dryspells\, loss of motivation\, energy surges\, emotional triggers\, or disassociation tell us\, and how can we work through them?\nA guided meditation and Q&A\n\nAttend this free webinar to help you jumpstart or refuel your meditation – just in time for the holiday season and New Year. \nRegister Here.
URL:https://enlightenedenergetics.com/event/meditation-building-a-practice-that-truly-benefits-you-free-webinar/
CATEGORIES:Free Webinar/Book Event
END:VEVENT
BEGIN:VEVENT
DTSTART;TZID=America/Los_Angeles:20201212T100000
DTEND;TZID=America/Los_Angeles:20201212T120000
DTSTAMP:20260419T010011
CREATED:20201114T210440Z
LAST-MODIFIED:20201114T220122Z
UID:10000021-1607767200-1607774400@enlightenedenergetics.com
SUMMARY:The Patriarchy and Persecution Energy Healing
DESCRIPTION:Sponsored by Heal Your Heart as part of the Sacred Body Events series\, in this free webinar Lisa and host Melissa Rebronja Henshall will discuss patriarchal history and how it has impacted women healers and spiritualists\, including in the ‘burning times.’ Lisa will share how fear of persecution can imprint through ancestral and karmic lines onto our feminine energy body\, and how it can create interior barriers to owning our healing and spiritual gifts. Lisa will offer guided energy work and distance clearing to help identify and release these obstructions on the energy level. Lisa will also discuss how some of the obstructions show up in today’s Mind Body Spirit marketplace\, and discuss a path forward. Click here for more information.
URL:https://enlightenedenergetics.com/event/the-patriarchy-and-persecution-energy-healing/
CATEGORIES:Free Webinar/Book Event
ORGANIZER;CN="Heal Your Heart":MAILTO:mrebronja@hotmail.com
END:VEVENT
END:VCALENDAR