BEGIN:VCALENDAR
VERSION:2.0
PRODID:-//Enlightened Energetics - ECPv6.15.20//NONSGML v1.0//EN
CALSCALE:GREGORIAN
METHOD:PUBLISH
X-ORIGINAL-URL:https://enlightenedenergetics.com
X-WR-CALDESC:Events for Enlightened Energetics
REFRESH-INTERVAL;VALUE=DURATION:PT1H
X-Robots-Tag:noindex
X-PUBLISHED-TTL:PT1H
BEGIN:VTIMEZONE
TZID:America/Los_Angeles
BEGIN:DAYLIGHT
TZOFFSETFROM:-0800
TZOFFSETTO:-0700
TZNAME:PDT
DTSTART:20200308T100000
END:DAYLIGHT
BEGIN:STANDARD
TZOFFSETFROM:-0700
TZOFFSETTO:-0800
TZNAME:PST
DTSTART:20201101T090000
END:STANDARD
BEGIN:DAYLIGHT
TZOFFSETFROM:-0800
TZOFFSETTO:-0700
TZNAME:PDT
DTSTART:20210314T100000
END:DAYLIGHT
BEGIN:STANDARD
TZOFFSETFROM:-0700
TZOFFSETTO:-0800
TZNAME:PST
DTSTART:20211107T090000
END:STANDARD
BEGIN:DAYLIGHT
TZOFFSETFROM:-0800
TZOFFSETTO:-0700
TZNAME:PDT
DTSTART:20220313T100000
END:DAYLIGHT
BEGIN:STANDARD
TZOFFSETFROM:-0700
TZOFFSETTO:-0800
TZNAME:PST
DTSTART:20221106T090000
END:STANDARD
END:VTIMEZONE
BEGIN:VEVENT
DTSTART;TZID=America/Los_Angeles:20211009T090000
DTEND;TZID=America/Los_Angeles:20211009T120000
DTSTAMP:20260419T092746
CREATED:20210719T023515Z
LAST-MODIFIED:20210719T023515Z
UID:10000030-1633770000-1633780800@enlightenedenergetics.com
SUMMARY:Energy Work for Sexual Trauma
DESCRIPTION:Energy Work for Sexual Trauma Saturday 10/9 9am-12pm PT – Recording available for those unable to attend live. Details and Registration available through Eventbrite: \nhttps://www.eventbrite.com/e/energy-work-for-sexual-trauma-registration-163806137567
URL:https://enlightenedenergetics.com/event/energy-work-for-sexual-trauma-2/
CATEGORIES:Workshop
END:VEVENT
BEGIN:VEVENT
DTSTART;TZID=America/Los_Angeles:20211023T090000
DTEND;TZID=America/Los_Angeles:20211023T120000
DTSTAMP:20260419T092746
CREATED:20210719T024425Z
LAST-MODIFIED:20210719T024425Z
UID:10000031-1634979600-1634990400@enlightenedenergetics.com
SUMMARY:Energy Work for Perimenopause and Menopause
DESCRIPTION:Energy Work for Perimenopause and Menopause Saturday 10/23 9am-12pm PT (also available by recording). Details and Registration Available at Eventbrite:\nhttps://www.eventbrite.com/e/energy-work-for-perimenopause-and-menopause-registration-163806675175
URL:https://enlightenedenergetics.com/event/energy-work-for-perimenopause-and-menopause-2/
CATEGORIES:Workshop
END:VEVENT
END:VCALENDAR