BEGIN:VCALENDAR
VERSION:2.0
PRODID:-//Enlightened Energetics - ECPv6.15.20//NONSGML v1.0//EN
CALSCALE:GREGORIAN
METHOD:PUBLISH
X-WR-CALNAME:Enlightened Energetics
X-ORIGINAL-URL:https://enlightenedenergetics.com
X-WR-CALDESC:Events for Enlightened Energetics
REFRESH-INTERVAL;VALUE=DURATION:PT1H
X-Robots-Tag:noindex
X-PUBLISHED-TTL:PT1H
BEGIN:VTIMEZONE
TZID:America/Los_Angeles
BEGIN:DAYLIGHT
TZOFFSETFROM:-0800
TZOFFSETTO:-0700
TZNAME:PDT
DTSTART:20200308T100000
END:DAYLIGHT
BEGIN:STANDARD
TZOFFSETFROM:-0700
TZOFFSETTO:-0800
TZNAME:PST
DTSTART:20201101T090000
END:STANDARD
BEGIN:DAYLIGHT
TZOFFSETFROM:-0800
TZOFFSETTO:-0700
TZNAME:PDT
DTSTART:20210314T100000
END:DAYLIGHT
BEGIN:STANDARD
TZOFFSETFROM:-0700
TZOFFSETTO:-0800
TZNAME:PST
DTSTART:20211107T090000
END:STANDARD
BEGIN:DAYLIGHT
TZOFFSETFROM:-0800
TZOFFSETTO:-0700
TZNAME:PDT
DTSTART:20220313T100000
END:DAYLIGHT
BEGIN:STANDARD
TZOFFSETFROM:-0700
TZOFFSETTO:-0800
TZNAME:PST
DTSTART:20221106T090000
END:STANDARD
END:VTIMEZONE
BEGIN:VEVENT
DTSTART;TZID=America/Los_Angeles:20211113T090000
DTEND;TZID=America/Los_Angeles:20211113T120000
DTSTAMP:20260419T192256
CREATED:20210903T010639Z
LAST-MODIFIED:20210903T010639Z
UID:10000032-1636794000-1636804800@enlightenedenergetics.com
SUMMARY:Clearing Persecution Karmas To Develop Your Spiritual Gifts
DESCRIPTION:Energy work for clearing blocks created by present\, past\, or ancestral experiences of prejudice and persecution\, and for empowering gifts.\n\n\n\n\n\n\n\nSaturday November 13th 9am – 12pm PT by Zoom\, Recording Available. This session includes distance healing\, guided energy work\, self-guided tools\, lecture\, and Q&A. \nRegistration and additional details at: \nhttps://www.eventbrite.com/e/clearing-persecution-karmas-to-develop-your-spiritual-gifts-registration-169398616823?aff=erelpanelorg
URL:https://enlightenedenergetics.com/event/clearing-persecution-karmas-to-develop-your-spiritual-gifts-2/
CATEGORIES:Workshop
END:VEVENT
END:VCALENDAR