BEGIN:VCALENDAR
VERSION:2.0
PRODID:-//Enlightened Energetics - ECPv6.15.20//NONSGML v1.0//EN
CALSCALE:GREGORIAN
METHOD:PUBLISH
X-WR-CALNAME:Enlightened Energetics
X-ORIGINAL-URL:https://enlightenedenergetics.com
X-WR-CALDESC:Events for Enlightened Energetics
REFRESH-INTERVAL;VALUE=DURATION:PT1H
X-Robots-Tag:noindex
X-PUBLISHED-TTL:PT1H
BEGIN:VTIMEZONE
TZID:America/Los_Angeles
BEGIN:DAYLIGHT
TZOFFSETFROM:-0800
TZOFFSETTO:-0700
TZNAME:PDT
DTSTART:20190310T100000
END:DAYLIGHT
BEGIN:STANDARD
TZOFFSETFROM:-0700
TZOFFSETTO:-0800
TZNAME:PST
DTSTART:20191103T090000
END:STANDARD
BEGIN:DAYLIGHT
TZOFFSETFROM:-0800
TZOFFSETTO:-0700
TZNAME:PDT
DTSTART:20200308T100000
END:DAYLIGHT
BEGIN:STANDARD
TZOFFSETFROM:-0700
TZOFFSETTO:-0800
TZNAME:PST
DTSTART:20201101T090000
END:STANDARD
BEGIN:DAYLIGHT
TZOFFSETFROM:-0800
TZOFFSETTO:-0700
TZNAME:PDT
DTSTART:20210314T100000
END:DAYLIGHT
BEGIN:STANDARD
TZOFFSETFROM:-0700
TZOFFSETTO:-0800
TZNAME:PST
DTSTART:20211107T090000
END:STANDARD
END:VTIMEZONE
BEGIN:VEVENT
DTSTART;TZID=America/Los_Angeles:20201127T170000
DTEND;TZID=America/Los_Angeles:20201127T183000
DTSTAMP:20260418T072100
CREATED:20201106T025733Z
LAST-MODIFIED:20201106T031412Z
UID:10000019-1606496400-1606501800@enlightenedenergetics.com
SUMMARY:Online Bookstore Event: Your Feminine Energy Body – How to Work with it for Healing and Empowerment
DESCRIPTION:Friday\, Nov 27th 5-6:30pm\, Sponsored by East West Bookshop\, Bothell\, WA \nWhat is the feminine energy body? Does everyone have one? How can you work with it for healing and empowerment? \nWhile teachings on the chakras\, kundalini and energy work tend to present one energy anatomy for everyone\, in fact there are many teachings that distinguish between a masculine and feminine energy body and flows. We are in a time of great healing and empowerment for the feminine energy body\, and in this webinar you will learn how to access and work with yours. Lisa Erickson\, author of Chakra Empowerment for Women: Self-Guided Techniques for Healing Trauma\, Owning Your Power & Finding Overall Wellness from Llewellyn Publishing will talk about the differences between the feminine and masculine energy body\, and how you can work with both within yourself. She will walk us through several brief chakra (energy center) contemplative exercises for activating parts of our energy body. She will also discuss the energy body in relation to menstruation\, pregnancy\, post-partum\, perimenopause and menopause\, and how to work with these transits for healing and empowerment. She will talk about how working with the feminine and masculine energy body can aid sexual trauma healing. Individuals of all gender identities are welcome. \nRegister at the East West site and they will send you the Zoom link 24 hours before the class. Click here.
URL:https://enlightenedenergetics.com/event/your-feminine-energy-body-how-to-work-with-it-for-healing-and-empowerment/
CATEGORIES:Free Webinar/Book Event
END:VEVENT
END:VCALENDAR