BEGIN:VCALENDAR
VERSION:2.0
PRODID:-//Enlightened Energetics - ECPv6.15.20//NONSGML v1.0//EN
CALSCALE:GREGORIAN
METHOD:PUBLISH
X-WR-CALNAME:Enlightened Energetics
X-ORIGINAL-URL:https://enlightenedenergetics.com
X-WR-CALDESC:Events for Enlightened Energetics
REFRESH-INTERVAL;VALUE=DURATION:PT1H
X-Robots-Tag:noindex
X-PUBLISHED-TTL:PT1H
BEGIN:VTIMEZONE
TZID:America/Los_Angeles
BEGIN:DAYLIGHT
TZOFFSETFROM:-0800
TZOFFSETTO:-0700
TZNAME:PDT
DTSTART:20190310T100000
END:DAYLIGHT
BEGIN:STANDARD
TZOFFSETFROM:-0700
TZOFFSETTO:-0800
TZNAME:PST
DTSTART:20191103T090000
END:STANDARD
BEGIN:DAYLIGHT
TZOFFSETFROM:-0800
TZOFFSETTO:-0700
TZNAME:PDT
DTSTART:20200308T100000
END:DAYLIGHT
BEGIN:STANDARD
TZOFFSETFROM:-0700
TZOFFSETTO:-0800
TZNAME:PST
DTSTART:20201101T090000
END:STANDARD
BEGIN:DAYLIGHT
TZOFFSETFROM:-0800
TZOFFSETTO:-0700
TZNAME:PDT
DTSTART:20210314T100000
END:DAYLIGHT
BEGIN:STANDARD
TZOFFSETFROM:-0700
TZOFFSETTO:-0800
TZNAME:PST
DTSTART:20211107T090000
END:STANDARD
END:VTIMEZONE
BEGIN:VEVENT
DTSTART;TZID=America/Los_Angeles:20201025T100000
DTEND;TZID=America/Los_Angeles:20201025T180000
DTSTAMP:20260418T173654
CREATED:20201006T022022Z
LAST-MODIFIED:20201006T022649Z
UID:10000014-1603620000-1603648800@enlightenedenergetics.com
SUMMARY:Sacred Body Summit: Reclaim Your Feminine Power
DESCRIPTION:You are invited to a FREE Sacred Body Summit: Reclaim Your Feminine Power\non Sunday\, October 25th from 10am – 6pm PDT!  \n\nLove your body! Reclaim your power!\nCome spend the day in Sacred Sisterhood with other Wise Women!\nSign Up Now\nDo you feel disconnected from your body and true power? \nAre beliefs about yourself diminishing your joy and holding you back? \nAre you ready to dive into the deepest part of yourself and spirit and step into your authentic power? \nThen\, the Sacred Body Summit is for you.  Loving your body is the first step toward authentic power. \nThe Sacred Body Summit is a FREE EVENT and valuable opportunity to receive ancient and modern wisdom to awaken and heal your miraculous feminine body and authentic nature\, so that you may become your most potent and positive Self. \n\n\n\nIt’s time to recover from our past and step up into a powerful feminine future.\n\n\n\n\nThis Sacred Sunday one-day event features Wise Women who are teachers\, spiritual leaders and health practitioners. Each is on a mission to help women remember the sacredness of who they are. This is a live summit and you’ll be in a space of sisterhood where you can interact directly with the presenters and learn from each other. \nThe Wise Women teachings include: \n· The secrets of Goddess cultures and other women’s history they don’t teach in school\n· Healing trauma that is stored in the body\n· Harnessing your Yoni power for deeper self-love and discovery of your truth\n· Ritual to honor sacred sisters and ourselves\n· Communication tools for protection and power\n· Tantric practices to support to your authentic feminine nature \nTransform the feminine collective! \nThis is an opportunity for you to step out of your smallness and into the powerful truth of who you are. Your transformation feeds into the evolution of our world. When your self-love and appreciation increases\, the energy of all women – and our entire society – is heightened. \n\n\nSign Up Now
URL:https://enlightenedenergetics.com/event/sacred-body-summit-reclaim-your-feminine-power/
CATEGORIES:Courses
ATTACH;FMTTYPE=image/png:https://enlightenedenergetics.com/wp-content/uploads/IMG_8818.png
END:VEVENT
END:VCALENDAR