BEGIN:VCALENDAR
VERSION:2.0
PRODID:-//Enlightened Energetics - ECPv6.15.20//NONSGML v1.0//EN
CALSCALE:GREGORIAN
METHOD:PUBLISH
X-ORIGINAL-URL:https://enlightenedenergetics.com
X-WR-CALDESC:Events for Enlightened Energetics
REFRESH-INTERVAL;VALUE=DURATION:PT1H
X-Robots-Tag:noindex
X-PUBLISHED-TTL:PT1H
BEGIN:VTIMEZONE
TZID:America/Los_Angeles
BEGIN:DAYLIGHT
TZOFFSETFROM:-0800
TZOFFSETTO:-0700
TZNAME:PDT
DTSTART:20200308T100000
END:DAYLIGHT
BEGIN:STANDARD
TZOFFSETFROM:-0700
TZOFFSETTO:-0800
TZNAME:PST
DTSTART:20201101T090000
END:STANDARD
BEGIN:DAYLIGHT
TZOFFSETFROM:-0800
TZOFFSETTO:-0700
TZNAME:PDT
DTSTART:20210314T100000
END:DAYLIGHT
BEGIN:STANDARD
TZOFFSETFROM:-0700
TZOFFSETTO:-0800
TZNAME:PST
DTSTART:20211107T090000
END:STANDARD
BEGIN:DAYLIGHT
TZOFFSETFROM:-0800
TZOFFSETTO:-0700
TZNAME:PDT
DTSTART:20220313T100000
END:DAYLIGHT
BEGIN:STANDARD
TZOFFSETFROM:-0700
TZOFFSETTO:-0800
TZNAME:PST
DTSTART:20221106T090000
END:STANDARD
END:VTIMEZONE
BEGIN:VEVENT
DTSTART;TZID=America/Los_Angeles:20210313T090000
DTEND;TZID=America/Los_Angeles:20210313T120000
DTSTAMP:20260422T141650
CREATED:20210120T204749Z
LAST-MODIFIED:20210121T224854Z
UID:10000025-1615626000-1615636800@enlightenedenergetics.com
SUMMARY:Clearing Persecution Karmas to Develop Your Spiritual Gifts
DESCRIPTION:At this time in history\, many ancestral and karmic patterns related to the past persecution of healers\, spiritualists\, and intuitives are rising to the surface for clearing\, particularly for women. If you have gifts in this area\, and especially if you utilize them in a professional capacity\, it’s important to recognize and clear them. Many of these are linked to patriarchy and/or outdated religious conditioning.  \nIn this intensive three-hour online workshop Lisa will first lay out the kinds of energy obstructions that can arise from this conditioning and history\, and map both these and spiritual gifts to the chakras. She will then guide you through an exercise for identifying the ones most relevant to you\, and how the obstructions are manifesting in your life. She will guide the group through an intense healing and clearing practice\, followed by a spiritual gift empowerment.  \nThe session is open to individuals of all gender identifications and will be conducted by Zoom on March 13th from 9am-noon PT. It will be recorded and the recording made available to all participants\, though attending live is recommended. There will be a 15 minute break halfway through. The session will be interactive.  \nCost for this session on its own is $40. If you are in Lisa’s current Chakra Empowerment for Women course\, or enrolled in her Spring 2021 Energy Work to Start or Grow a Business course\, you may take it for $20. Please email Lisa at Lisa@EnlightenedEnergetics.com to be invoiced at this lower rate. \nREGISTER HERE \nLisa Erickson is an energy worker\, workshop leader\, and author specializing in women’s energetics\, sexual trauma healing\, and kundalini activation. She is the author of Chakra Empowerment for Women and The Art and Science of Meditation through Llewellyn Publishing. Her websites are http://www.ChakraEmpowermentForWomen.com and https://enlightenedenergetics.com. Follow her on Facebook\, Instagram and Twitter.
URL:https://enlightenedenergetics.com/event/clearing-persecution-karmas-to-develop-your-spiritual-gifts/
CATEGORIES:Courses
END:VEVENT
END:VCALENDAR