BEGIN:VCALENDAR
VERSION:2.0
PRODID:-//Enlightened Energetics - ECPv6.15.20//NONSGML v1.0//EN
CALSCALE:GREGORIAN
METHOD:PUBLISH
X-ORIGINAL-URL:https://enlightenedenergetics.com
X-WR-CALDESC:Events for Enlightened Energetics
REFRESH-INTERVAL;VALUE=DURATION:PT1H
X-Robots-Tag:noindex
X-PUBLISHED-TTL:PT1H
BEGIN:VTIMEZONE
TZID:America/Los_Angeles
BEGIN:DAYLIGHT
TZOFFSETFROM:-0800
TZOFFSETTO:-0700
TZNAME:PDT
DTSTART:20190310T100000
END:DAYLIGHT
BEGIN:STANDARD
TZOFFSETFROM:-0700
TZOFFSETTO:-0800
TZNAME:PST
DTSTART:20191103T090000
END:STANDARD
BEGIN:DAYLIGHT
TZOFFSETFROM:-0800
TZOFFSETTO:-0700
TZNAME:PDT
DTSTART:20200308T100000
END:DAYLIGHT
BEGIN:STANDARD
TZOFFSETFROM:-0700
TZOFFSETTO:-0800
TZNAME:PST
DTSTART:20201101T090000
END:STANDARD
BEGIN:DAYLIGHT
TZOFFSETFROM:-0800
TZOFFSETTO:-0700
TZNAME:PDT
DTSTART:20210314T100000
END:DAYLIGHT
BEGIN:STANDARD
TZOFFSETFROM:-0700
TZOFFSETTO:-0800
TZNAME:PST
DTSTART:20211107T090000
END:STANDARD
END:VTIMEZONE
BEGIN:VEVENT
DTSTART;TZID=America/Los_Angeles:20200801T090000
DTEND;TZID=America/Los_Angeles:20200801T120000
DTSTAMP:20260420T231048
CREATED:20200619T033303Z
LAST-MODIFIED:20200730T032548Z
UID:10000009-1596272400-1596283200@enlightenedenergetics.com
SUMMARY:Energy Work for Motherhood - Small Group Session
DESCRIPTION:This intensive interactive small group session will draw on exercises from Lisa’s book Chakra Empowerment For Women\, though purchase of the book is not required. This workshop will include: \n– Overview of how the energy body is impacted by pregnancy\, post-partum\, and the mother-child energy line during early childhood vs. older/teen years \n– Guided energy work relevant to these phases \n– Overview of the mother-child energy line\, and how to work with it through chakra work for greater energetic balance \n– Distinguishing this mother-child line from karmic and ancestral connections and forces \n– The energetics of parenting\, including through crises\, and additional applicable energy tools \n– Energy work for energy balance\, clearing parent-child energy lines and more \n– Using the mother-child line for healing support \n– Q&A and special requests \nNote that this session is both ‘informational’ and a distance healing session. Lisa will conduct group healing similar to what she does in private sessions. Participants will also learn many techniques they can utilize on their own to facilitate healing and balance. Lisa works in a trauma-informed way\, and so all work will be gently paced with multiple involvement options. While video participation is encouraged\, participants may use audio only and sign up with a pseudonym when logging into Zoom in order to presever anonymity if this is a concern. \nThe intensive will be conducted in a private Zoom session from 9am – noon pacific time\, and will be available by recording afterwards for those who cannot attend live (thought live is encouraged\, so you can ask questions and make special healing or energy work requests.) There will be a 10 minute break at the halfway point. Cost is $25 (sliding scale available for those in need\, please message through the Contact link.) \nRegister here. 
URL:https://enlightenedenergetics.com/event/the-energetics-of-motherhood-webinar/
END:VEVENT
END:VCALENDAR