BEGIN:VCALENDAR
VERSION:2.0
PRODID:-//Enlightened Energetics - ECPv6.15.20//NONSGML v1.0//EN
CALSCALE:GREGORIAN
METHOD:PUBLISH
X-ORIGINAL-URL:https://enlightenedenergetics.com
X-WR-CALDESC:Events for Enlightened Energetics
REFRESH-INTERVAL;VALUE=DURATION:PT1H
X-Robots-Tag:noindex
X-PUBLISHED-TTL:PT1H
BEGIN:VTIMEZONE
TZID:America/Los_Angeles
BEGIN:DAYLIGHT
TZOFFSETFROM:-0800
TZOFFSETTO:-0700
TZNAME:PDT
DTSTART:20200308T100000
END:DAYLIGHT
BEGIN:STANDARD
TZOFFSETFROM:-0700
TZOFFSETTO:-0800
TZNAME:PST
DTSTART:20201101T090000
END:STANDARD
BEGIN:DAYLIGHT
TZOFFSETFROM:-0800
TZOFFSETTO:-0700
TZNAME:PDT
DTSTART:20210314T100000
END:DAYLIGHT
BEGIN:STANDARD
TZOFFSETFROM:-0700
TZOFFSETTO:-0800
TZNAME:PST
DTSTART:20211107T090000
END:STANDARD
BEGIN:DAYLIGHT
TZOFFSETFROM:-0800
TZOFFSETTO:-0700
TZNAME:PDT
DTSTART:20220313T100000
END:DAYLIGHT
BEGIN:STANDARD
TZOFFSETFROM:-0700
TZOFFSETTO:-0800
TZNAME:PST
DTSTART:20221106T090000
END:STANDARD
END:VTIMEZONE
BEGIN:VEVENT
DTSTART;TZID=America/Los_Angeles:20210306T090000
DTEND;TZID=America/Los_Angeles:20210306T120000
DTSTAMP:20260416T232813
CREATED:20210120T204217Z
LAST-MODIFIED:20210201T220547Z
UID:10000024-1615021200-1615032000@enlightenedenergetics.com
SUMMARY:Using Chakra Empowerments with Coaching\, Counseling or Personal Development Clients
DESCRIPTION:This course is open to anyone who has taken Lisa’s Chakra Empowerment for Women course\, or is currently enrolled\, and would like to utilize the Empowerments and other chakra exercises in Coaching\, Counseling\, Therapy\, or Personal Development client sessions (individual or group.) This is not a certification or energy healing course\, but rather a class for those who already are certified to work in another medium and would like to add guiding clients/patients/students through working with their energy body. Topics will include: \n– Defining different types of energy work (and what this is and isn’t) \n– Determining which chakra and/or Empowerment to focus on when with a client/student/patient \n– Guiding someone new to working with their energy body \n– Holding the energetic ‘container’ for a group or individual \n– Tips on pacing\, voice modulation\, and adaptations when guiding \n– How to incorporate with varying spiritual beliefs and/or a secular approach \n– Handling common obstacles \n– Trauma considerations and trauma sensitive guidelines \n– How to integrate with other work \nIf you are interested in taking this course and have not attended Lisa’s Chakra Empowerment for Women course (and are not currently enrolled) but believe you have enough chakra knowledge and/or have read her book\, then please contact her to be considered for enrollment. \nThe session is open to individuals of all gender identifications and will be conducted by Zoom on March 6th from 9am-noon PT. It will be recorded and the recording made available to all participants\, though attending live is recommended. There will be a 15 minute break halfway through. The session will be interactive.  \nCost for this session on its own is $40. If you are in Lisa’s current Chakra Empowerment for Women course\, or enrolled in her Spring 2021 Energy Work to Start or Grow a Business course\, you may take it for $20. Please email Lisa at Lisa@EnlightenedEnergetics.com to be invoiced at this lower rate. \nREGISTER FOR USING CHAKRA EMPOWERMENTS WITH CLIENTS NOW \nLisa Erickson is an energy worker\, workshop leader\, and author specializing in women’s energetics\, sexual trauma healing\, and kundalini activation. She is the author of Chakra Empowerment for Women and The Art and Science of Meditation through Llewellyn Publishing. Her websites are http://www.ChakraEmpowermentForWomen.com and https://enlightenedenergetics.com. Follow her on Facebook\, Instagram and Twitter.
URL:https://enlightenedenergetics.com/event/using-chakra-empowerments-with-coaching-counseling-or-personal-development-clients/
CATEGORIES:Courses
END:VEVENT
END:VCALENDAR