BEGIN:VCALENDAR
VERSION:2.0
PRODID:-//Enlightened Energetics - ECPv6.15.20//NONSGML v1.0//EN
CALSCALE:GREGORIAN
METHOD:PUBLISH
X-WR-CALNAME:Enlightened Energetics
X-ORIGINAL-URL:https://enlightenedenergetics.com
X-WR-CALDESC:Events for Enlightened Energetics
REFRESH-INTERVAL;VALUE=DURATION:PT1H
X-Robots-Tag:noindex
X-PUBLISHED-TTL:PT1H
BEGIN:VTIMEZONE
TZID:America/Los_Angeles
BEGIN:DAYLIGHT
TZOFFSETFROM:-0800
TZOFFSETTO:-0700
TZNAME:PDT
DTSTART:20200308T100000
END:DAYLIGHT
BEGIN:STANDARD
TZOFFSETFROM:-0700
TZOFFSETTO:-0800
TZNAME:PST
DTSTART:20201101T090000
END:STANDARD
BEGIN:DAYLIGHT
TZOFFSETFROM:-0800
TZOFFSETTO:-0700
TZNAME:PDT
DTSTART:20210314T100000
END:DAYLIGHT
BEGIN:STANDARD
TZOFFSETFROM:-0700
TZOFFSETTO:-0800
TZNAME:PST
DTSTART:20211107T090000
END:STANDARD
BEGIN:DAYLIGHT
TZOFFSETFROM:-0800
TZOFFSETTO:-0700
TZNAME:PDT
DTSTART:20220313T100000
END:DAYLIGHT
BEGIN:STANDARD
TZOFFSETFROM:-0700
TZOFFSETTO:-0800
TZNAME:PST
DTSTART:20221106T090000
END:STANDARD
END:VTIMEZONE
BEGIN:VEVENT
DTSTART;TZID=America/Los_Angeles:20210413T180000
DTEND;TZID=America/Los_Angeles:20210413T200000
DTSTAMP:20260417T075939
CREATED:20210120T205138Z
LAST-MODIFIED:20210120T205138Z
UID:10000026-1618336800-1618344000@enlightenedenergetics.com
SUMMARY:Energy Work for Perimenopause and Menopause
DESCRIPTION:This interactive webinar will draw on exercises from Lisa’s book Chakra Empowerment For Women\, though purchase of the book is not required. This workshop will include: \n– Overview of how the energy body is impacted by perimenopause and menopause \n– Ways to utilize chakra work to soothe perimenopuase and menopuase symptoms \n– An additional healing and discussion of kundalini in the context of menopause and aging \n-Overview of karma and kundalini in the context of menopause \n– An exercise for reframing the perimenopausal/menopausal transit as one of growth and transformation \n– Specific advice on energy work to complement other healing modalities for physical menopausal challenges \n– Working with sexual energy during this phase \n– Q&A and individual healing/energy work requests \nNote that this session is both ‘informational’ and a distance healing session. Lisa will conduct group healing similar to what she does in private sessions. Participants will also learn many techniques they can utilize on their own to facilitate healing. Lisa works in a trauma-informed way\, and so all work will be gently paced with multiple involvement options. While video participation is encouraged\, participants may use audio only and sign up with a pseudonym when logging into Zoom in order to presever anonymity if this is a concern. \nThe intensive will be conducted in a private Zoom session from 6pm – 8pm pacific time\, and will be available by recording afterwards for those who cannot attend live (though live is encouraged\, so you can ask questions and make individual requests.) Cost is $25 (sliding scale available for those in need\, please email Lisa at Lisa@enlightenedenergetics.com.) \nREGISTER HERE \nLisa Erickson is an energy worker\, workshop leader\, and author specializing in women’s energetics\, sexual trauma healing\, and kundalini activation. She is the author of Chakra Empowerment for Women and The Art and Science of Meditation through Llewellyn Publishing. Her websites are http://www.ChakraEmpowermentForWomen.com and https://enlightenedenergetics.com. Follow her on Facebook\, Instagram and Twitter.
URL:https://enlightenedenergetics.com/event/energy-work-for-perimenopause-and-menopause/
CATEGORIES:Courses
END:VEVENT
END:VCALENDAR